BEGIN:VCALENDAR
VERSION:2.0
PRODID:-//Baker College - ECPv6.15.18//NONSGML v1.0//EN
CALSCALE:GREGORIAN
METHOD:PUBLISH
X-WR-CALNAME:Baker College
X-ORIGINAL-URL:https://www.baker.edu
X-WR-CALDESC:Events for Baker College
REFRESH-INTERVAL;VALUE=DURATION:PT1H
X-Robots-Tag:noindex
X-PUBLISHED-TTL:PT1H
BEGIN:VTIMEZONE
TZID:America/Detroit
BEGIN:DAYLIGHT
TZOFFSETFROM:-0500
TZOFFSETTO:-0400
TZNAME:EDT
DTSTART:20250309T070000
END:DAYLIGHT
BEGIN:STANDARD
TZOFFSETFROM:-0400
TZOFFSETTO:-0500
TZNAME:EST
DTSTART:20251102T060000
END:STANDARD
BEGIN:DAYLIGHT
TZOFFSETFROM:-0500
TZOFFSETTO:-0400
TZNAME:EDT
DTSTART:20260308T070000
END:DAYLIGHT
BEGIN:STANDARD
TZOFFSETFROM:-0400
TZOFFSETTO:-0500
TZNAME:EST
DTSTART:20261101T060000
END:STANDARD
BEGIN:DAYLIGHT
TZOFFSETFROM:-0500
TZOFFSETTO:-0400
TZNAME:EDT
DTSTART:20270314T070000
END:DAYLIGHT
BEGIN:STANDARD
TZOFFSETFROM:-0400
TZOFFSETTO:-0500
TZNAME:EST
DTSTART:20271107T060000
END:STANDARD
END:VTIMEZONE
BEGIN:VEVENT
DTSTART;TZID=America/Detroit:20260422T130000
DTEND;TZID=America/Detroit:20260422T140000
DTSTAMP:20260422T041826
CREATED:20260205T222712Z
LAST-MODIFIED:20260205T222712Z
UID:10001693-1776862800-1776866400@www.baker.edu
SUMMARY:1st Gen Bees Meet Up
DESCRIPTION:Return to the homepage to start over or maybe the links below will help you find the information you are seeking:
URL:https://www.baker.edu/events/1st-gen-bees-meet-up-20260422/
LOCATION:Online Event
CATEGORIES:Online Event
ATTACH;FMTTYPE=image/jpeg:https://www.baker.edu/wp-content/uploads/Events_2025_First-Gen-Bees.jpg
END:VEVENT
BEGIN:VEVENT
DTSTART;TZID=America/Detroit:20260423T110000
DTEND;TZID=America/Detroit:20260423T130000
DTSTAMP:20260422T041826
CREATED:20251217T222801Z
LAST-MODIFIED:20251218T145237Z
UID:10001643-1776942000-1776949200@www.baker.edu
SUMMARY:Baker College Virtual Career Fair
DESCRIPTION:Return to the homepage to start over or maybe the links below will help you find the information you are seeking:
URL:https://www.baker.edu/events/baker-college-virtual-career-fair-spring-2026/
LOCATION:Online Event
CATEGORIES:Online Event
ATTACH;FMTTYPE=image/jpeg:https://www.baker.edu/wp-content/uploads/virtual-career-fair-event-v2-2000x1333-compressed.jpg
END:VEVENT
BEGIN:VEVENT
DTSTART;TZID=America/Detroit:20260424T100000
DTEND;TZID=America/Detroit:20260424T120000
DTSTAMP:20260422T041826
CREATED:20260105T222549Z
LAST-MODIFIED:20260105T222651Z
UID:10001647-1777024800-1777032000@www.baker.edu
SUMMARY:The Culinary Institute of Michigan Port Huron - Spring Open House
DESCRIPTION:Return to the homepage to start over or maybe the links below will help you find the information you are seeking:
URL:https://www.baker.edu/events/the-cim-port-huron-spring-open-house/
LOCATION:CIM Port Huron Campus\, 2000 St Clair St\, Port Huron\, MI\, 48060
CATEGORIES:Open House
ATTACH;FMTTYPE=image/jpeg:https://www.baker.edu/wp-content/uploads/Events_Open-Houses_CIM-PH2.jpg
END:VEVENT
BEGIN:VEVENT
DTSTART;TZID=America/Detroit:20260425T100000
DTEND;TZID=America/Detroit:20260425T120000
DTSTAMP:20260422T041826
CREATED:20260106T212301Z
LAST-MODIFIED:20260106T212302Z
UID:10001649-1777111200-1777118400@www.baker.edu
SUMMARY:Muskegon Spring Open House
DESCRIPTION:Return to the homepage to start over or maybe the links below will help you find the information you are seeking:
URL:https://www.baker.edu/events/muskegon-spring-open-house-20260425/
LOCATION:Baker College of Muskegon\, 1903 Marquette Ave Suite #A113\, Muskegon\, Michigan\, 49442
CATEGORIES:Open House
ATTACH;FMTTYPE=image/jpeg:https://www.baker.edu/wp-content/uploads/Events_Open-House_MU2.jpg
END:VEVENT
BEGIN:VEVENT
DTSTART;TZID=America/Detroit:20260425T100000
DTEND;TZID=America/Detroit:20260425T120000
DTSTAMP:20260422T041826
CREATED:20260106T212810Z
LAST-MODIFIED:20260406T171718Z
UID:10001650-1777111200-1777118400@www.baker.edu
SUMMARY:Cadillac Spring Open House
DESCRIPTION:Return to the homepage to start over or maybe the links below will help you find the information you are seeking:
URL:https://www.baker.edu/events/cadillac-spring-open-house-20260425/
LOCATION:Cadillac Campus\, 9600 E. 13th Street\, Cadillac\, Michigan\, 49601\, United States
CATEGORIES:Open House
ATTACH;FMTTYPE=image/jpeg:https://www.baker.edu/wp-content/uploads/Events_Open-Houses_CA2.jpg
END:VEVENT
BEGIN:VEVENT
DTSTART;TZID=America/Detroit:20260425T100000
DTEND;TZID=America/Detroit:20260425T120000
DTSTAMP:20260422T041826
CREATED:20260108T175947Z
LAST-MODIFIED:20260108T175948Z
UID:10001652-1777111200-1777118400@www.baker.edu
SUMMARY:Owosso Spring Open House
DESCRIPTION:Return to the homepage to start over or maybe the links below will help you find the information you are seeking:
URL:https://www.baker.edu/events/owosso-spring-open-house-2026/
LOCATION:Owosso Campus\, 1020 S. Washington Street\, Owosso\, Michigan\, 48867\, United States
CATEGORIES:Open House,Prospective Students
ATTACH;FMTTYPE=image/jpeg:https://www.baker.edu/wp-content/uploads/Events_Open-Houses_OW2.jpg
END:VEVENT
BEGIN:VEVENT
DTSTART;TZID=America/Detroit:20260425T100000
DTEND;TZID=America/Detroit:20260425T120000
DTSTAMP:20260422T041826
CREATED:20260108T181007Z
LAST-MODIFIED:20260108T181201Z
UID:10001653-1777111200-1777118400@www.baker.edu
SUMMARY:Auto/Diesel Institute Spring Open House
DESCRIPTION:Return to the homepage to start over or maybe the links below will help you find the information you are seeking:
URL:https://www.baker.edu/events/auto-diesel-institute-spring-2026-open-house/
LOCATION:ADI Owosso\, 1400 S Michigan 52\, Owosso\, MI\, 48867\, United States
CATEGORIES:Open House,Prospective Students
ATTACH;FMTTYPE=image/jpeg:https://www.baker.edu/wp-content/uploads/Events_Open-Houses_ADI2.jpg
END:VEVENT
BEGIN:VEVENT
DTSTART;TZID=America/Detroit:20260429T180000
DTEND;TZID=America/Detroit:20260429T193000
DTSTAMP:20260422T041826
CREATED:20260420T150509Z
LAST-MODIFIED:20260420T150510Z
UID:10001722-1777485600-1777491000@www.baker.edu
SUMMARY:Cheers to the Journey
DESCRIPTION:Return to the homepage to start over or maybe the links below will help you find the information you are seeking:
URL:https://www.baker.edu/events/cheers-to-the-journey/
LOCATION:Online Event
CATEGORIES:Online Event
ATTACH;FMTTYPE=image/png:https://www.baker.edu/wp-content/uploads/Commencement2025_051025-589-317x211-28495c2.png
END:VEVENT
BEGIN:VEVENT
DTSTART;TZID=America/Detroit:20260505T180000
DTEND;TZID=America/Detroit:20260505T190000
DTSTAMP:20260422T041826
CREATED:20260113T174518Z
LAST-MODIFIED:20260113T174609Z
UID:10001660-1778004000-1778007600@www.baker.edu
SUMMARY:Jackson Summer Open House
DESCRIPTION:Return to the homepage to start over or maybe the links below will help you find the information you are seeking:
URL:https://www.baker.edu/events/jackson-summer-open-house-2026/
LOCATION:Jackson Campus\, 2800 Springport Road\, Jackson\, Michigan\, 49202\, United States
CATEGORIES:Open House
ATTACH;FMTTYPE=image/jpeg:https://www.baker.edu/wp-content/uploads/Event_Jackson-Open-House_V2.jpg
END:VEVENT
BEGIN:VEVENT
DTSTART;TZID=America/Detroit:20260506T070000
DTEND;TZID=America/Detroit:20260506T090000
DTSTAMP:20260422T041826
CREATED:20260312T205900Z
LAST-MODIFIED:20260312T205901Z
UID:10001711-1778050800-1778058000@www.baker.edu
SUMMARY:Coffee (and Donuts) with Campus Safety
DESCRIPTION:Return to the homepage to start over or maybe the links below will help you find the information you are seeking:
URL:https://www.baker.edu/events/coffee-and-donuts-with-campus-safety-20260506/
LOCATION:Royal Oak Campus\, 420 S Lafayette Ave\, Royal Oak\, MI\, 48067\, United States
CATEGORIES:Plan a Visit
ATTACH;FMTTYPE=image/jpeg:https://www.baker.edu/wp-content/uploads/Artboard-1-100.jpg
END:VEVENT
BEGIN:VEVENT
DTSTART;TZID=America/Detroit:20260506T180000
DTEND;TZID=America/Detroit:20260506T190000
DTSTAMP:20260422T041826
CREATED:20260113T174911Z
LAST-MODIFIED:20260113T180825Z
UID:10001661-1778090400-1778094000@www.baker.edu
SUMMARY:Royal Oak Summer Open House
DESCRIPTION:Return to the homepage to start over or maybe the links below will help you find the information you are seeking:
URL:https://www.baker.edu/events/royal-oak-summer-open-house-2026/
LOCATION:Royal Oak Campus\, 420 S Lafayette Ave\, Royal Oak\, MI\, 48067\, United States
CATEGORIES:Open House
ATTACH;FMTTYPE=image/jpeg:https://www.baker.edu/wp-content/uploads/Event-Page-Thumbnails_open-house-02.jpg
END:VEVENT
BEGIN:VEVENT
DTSTART;TZID=America/Detroit:20260509T120000
DTEND;TZID=America/Detroit:20260509T180000
DTSTAMP:20260422T041826
CREATED:20260409T022440Z
LAST-MODIFIED:20260409T022441Z
UID:10001721-1778328000-1778349600@www.baker.edu
SUMMARY:Supporting our Community - Renew Mobility Karaoke and Cornhole Fundraiser
DESCRIPTION:Return to the homepage to start over or maybe the links below will help you find the information you are seeking:
URL:https://www.baker.edu/events/supporting-our-community-renew-mobility-karaoke-and-cornhole-fundraiser/
LOCATION:Baker College of Muskegon\, 1903 Marquette Ave Suite #A113\, Muskegon\, Michigan\, 49442
CATEGORIES:Commencement
ATTACH;FMTTYPE=image/png:https://www.baker.edu/wp-content/uploads/event-renew-mobility-karaoke-fundraiser-2026-compressed.png
END:VEVENT
BEGIN:VEVENT
DTSTART;TZID=America/Detroit:20260514T150000
DTEND;TZID=America/Detroit:20260514T160000
DTSTAMP:20260422T041826
CREATED:20251016T175644Z
LAST-MODIFIED:20251016T175645Z
UID:10001613-1778770800-1778774400@www.baker.edu
SUMMARY:St. Francis Information Session
DESCRIPTION:Return to the homepage to start over or maybe the links below will help you find the information you are seeking:
URL:https://www.baker.edu/events/st-francis-information-session-20260514/
LOCATION:Online Event
CATEGORIES:Online Event,Open House,Prospective Students
ATTACH;FMTTYPE=image/jpeg:https://www.baker.edu/wp-content/uploads/Event-StFrancis.jpg
END:VEVENT
BEGIN:VEVENT
DTSTART;TZID=America/Detroit:20260528T120000
DTEND;TZID=America/Detroit:20260528T130000
DTSTAMP:20260422T041826
CREATED:20251016T185748Z
LAST-MODIFIED:20251016T185749Z
UID:10001617-1779969600-1779973200@www.baker.edu
SUMMARY:Online Open House
DESCRIPTION:Return to the homepage to start over or maybe the links below will help you find the information you are seeking:
URL:https://www.baker.edu/events/online-open-house-20260528/
LOCATION:Online Event
CATEGORIES:Online Event,Open House,Prospective Students
ATTACH;FMTTYPE=image/jpeg:https://www.baker.edu/wp-content/uploads/Events_Online-Info-Session_24-25_MU.jpg
END:VEVENT
BEGIN:VEVENT
DTSTART;TZID=America/Detroit:20260529T120000
DTEND;TZID=America/Detroit:20260529T130000
DTSTAMP:20260422T041826
CREATED:20251016T192347Z
LAST-MODIFIED:20251016T192348Z
UID:10001620-1780056000-1780059600@www.baker.edu
SUMMARY:Graduate Open House
DESCRIPTION:Return to the homepage to start over or maybe the links below will help you find the information you are seeking:
URL:https://www.baker.edu/events/graduate-open-house-20260529/
LOCATION:Online Event
CATEGORIES:Online Event,Open House,Prospective Students
ATTACH;FMTTYPE=image/jpeg:https://www.baker.edu/wp-content/uploads/Event_Graduate-Studies2.jpg
END:VEVENT
BEGIN:VEVENT
DTSTART;TZID=America/Detroit:20260608T100000
DTEND;TZID=America/Detroit:20260608T150000
DTSTAMP:20260422T041826
CREATED:20260113T201137Z
LAST-MODIFIED:20260113T203137Z
UID:10001665-1780912800-1780930800@www.baker.edu
SUMMARY:Muskegon Fall Orientation
DESCRIPTION:Return to the homepage to start over or maybe the links below will help you find the information you are seeking:
URL:https://www.baker.edu/events/muskegon-fall-orientation-2026/
LOCATION:Baker College of Muskegon\, 1903 Marquette Ave Suite #A113\, Muskegon\, Michigan\, 49442
CATEGORIES:New Student Orientation
ATTACH;FMTTYPE=image/jpeg:https://www.baker.edu/wp-content/uploads/New-Student-Orientations_2024-05_v2.jpg
END:VEVENT
BEGIN:VEVENT
DTSTART;TZID=America/Detroit:20260609T100000
DTEND;TZID=America/Detroit:20260609T150000
DTSTAMP:20260422T041826
CREATED:20260113T193751Z
LAST-MODIFIED:20260113T194031Z
UID:10001664-1780999200-1781017200@www.baker.edu
SUMMARY:The Culinary Institute of Muskegon Fall Orientation
DESCRIPTION:Return to the homepage to start over or maybe the links below will help you find the information you are seeking:
URL:https://www.baker.edu/events/the-culinary-institute-of-muskegon-fall-orientation-2026/
LOCATION:CIM Muskegon Campus\, 336 W Clay Ave\, Muskegon\, Michigan\, 49440
CATEGORIES:New Student Orientation
ATTACH;FMTTYPE=image/jpeg:https://www.baker.edu/wp-content/uploads/New-Student-Orientations_2024-02_v2.jpg
END:VEVENT
BEGIN:VEVENT
DTSTART;TZID=America/Detroit:20260610T100000
DTEND;TZID=America/Detroit:20260610T150000
DTSTAMP:20260422T041826
CREATED:20260113T201607Z
LAST-MODIFIED:20260113T202220Z
UID:10001666-1781085600-1781103600@www.baker.edu
SUMMARY:Owosso and Auto/Diesel Institute Fall Orientation
DESCRIPTION:Return to the homepage to start over or maybe the links below will help you find the information you are seeking:
URL:https://www.baker.edu/events/owosso-and-adi-fall-orientation-2026/
LOCATION:Owosso Campus\, 1020 S. Washington Street\, Owosso\, Michigan\, 48867\, United States
CATEGORIES:New Student Orientation
ATTACH;FMTTYPE=image/jpeg:https://www.baker.edu/wp-content/uploads/New-Student-Orientations_2024-03_v2.jpg
END:VEVENT
BEGIN:VEVENT
DTSTART;TZID=America/Detroit:20260611T100000
DTEND;TZID=America/Detroit:20260611T150000
DTSTAMP:20260422T041826
CREATED:20260113T181300Z
LAST-MODIFIED:20260113T181301Z
UID:10001663-1781172000-1781190000@www.baker.edu
SUMMARY:The Culinary Institute of Port Huron Fall Orientation
DESCRIPTION:Return to the homepage to start over or maybe the links below will help you find the information you are seeking:
URL:https://www.baker.edu/events/the-cim-port-huron-fall-orientation-2026/
LOCATION:CIM Port Huron Campus\, 2000 St Clair St\, Port Huron\, MI\, 48060
CATEGORIES:New Student Orientation
ATTACH;FMTTYPE=image/jpeg:https://www.baker.edu/wp-content/uploads/New-Student-Orientations_2024-06_v2.jpg
END:VEVENT
BEGIN:VEVENT
DTSTART;TZID=America/Detroit:20260612T100000
DTEND;TZID=America/Detroit:20260612T150000
DTSTAMP:20260422T041826
CREATED:20260113T180452Z
LAST-MODIFIED:20260113T180452Z
UID:10001662-1781258400-1781276400@www.baker.edu
SUMMARY:Cadillac Fall Orientation
DESCRIPTION:Return to the homepage to start over or maybe the links below will help you find the information you are seeking:
URL:https://www.baker.edu/events/cadillac-fall-orientation-2026/
LOCATION:Cadillac Campus\, 9600 E. 13th Street\, Cadillac\, Michigan\, 49601\, United States
CATEGORIES:New Student Orientation
ATTACH;FMTTYPE=image/jpeg:https://www.baker.edu/wp-content/uploads/New-Student-Orientations_2024_v2.jpg
END:VEVENT
BEGIN:VEVENT
DTSTART;TZID=America/Detroit:20260617T120000
DTEND;TZID=America/Detroit:20260617T124500
DTSTAMP:20260422T041826
CREATED:20251105T172131Z
LAST-MODIFIED:20251105T172132Z
UID:10001615-1781697600-1781700300@www.baker.edu
SUMMARY:Transfer Talks: Virtual Open House
DESCRIPTION:Return to the homepage to start over or maybe the links below will help you find the information you are seeking:
URL:https://www.baker.edu/events/transfer-talks-virtual-open-house-20260617/
LOCATION:Online Event
CATEGORIES:Online Event,Open House,Prospective Students,Transfer Student Event
ATTACH;FMTTYPE=image/jpeg:https://www.baker.edu/wp-content/uploads/Event-Transfer-Student_v2.jpg
END:VEVENT
BEGIN:VEVENT
DTSTART;TZID=America/Detroit:20260715T100000
DTEND;TZID=America/Detroit:20260715T150000
DTSTAMP:20260422T041826
CREATED:20260113T210633Z
LAST-MODIFIED:20260113T210634Z
UID:10001669-1784109600-1784127600@www.baker.edu
SUMMARY:Owosso and Auto/Diesel Institute Fall Orientation
DESCRIPTION:Return to the homepage to start over or maybe the links below will help you find the information you are seeking:
URL:https://www.baker.edu/events/owosso-and-auto-diesel-institute-fall-orientation-2026-pt-2/
LOCATION:Owosso Campus\, 1020 S. Washington Street\, Owosso\, Michigan\, 48867\, United States
CATEGORIES:New Student Orientation
ATTACH;FMTTYPE=image/jpeg:https://www.baker.edu/wp-content/uploads/New-Student-Orientations_2024-03_v2.jpg
END:VEVENT
BEGIN:VEVENT
DTSTART;TZID=America/Detroit:20260715T120000
DTEND;TZID=America/Detroit:20260715T130000
DTSTAMP:20260422T041826
CREATED:20251016T192634Z
LAST-MODIFIED:20251016T192635Z
UID:10001621-1784116800-1784120400@www.baker.edu
SUMMARY:Graduate Open House
DESCRIPTION:Return to the homepage to start over or maybe the links below will help you find the information you are seeking:
URL:https://www.baker.edu/events/graduate-open-house-20260715/
LOCATION:Online Event
CATEGORIES:Online Event,Open House,Prospective Students
ATTACH;FMTTYPE=image/jpeg:https://www.baker.edu/wp-content/uploads/Event_Graduate-Studies2.jpg
END:VEVENT
BEGIN:VEVENT
DTSTART;TZID=America/Detroit:20260716T120000
DTEND;TZID=America/Detroit:20260716T130000
DTSTAMP:20260422T041826
CREATED:20251016T190131Z
LAST-MODIFIED:20251016T190132Z
UID:10001618-1784203200-1784206800@www.baker.edu
SUMMARY:Online Open House
DESCRIPTION:Return to the homepage to start over or maybe the links below will help you find the information you are seeking:
URL:https://www.baker.edu/events/online-open-house-20260716/
LOCATION:Online Event
CATEGORIES:Online Event,Open House,Prospective Students
ATTACH;FMTTYPE=image/jpeg:https://www.baker.edu/wp-content/uploads/Events_Online-Info-Session_24-25_JA.jpg
END:VEVENT
BEGIN:VEVENT
DTSTART;TZID=America/Detroit:20260818T120000
DTEND;TZID=America/Detroit:20260818T160000
DTSTAMP:20260422T041826
CREATED:20260113T202528Z
LAST-MODIFIED:20260113T202529Z
UID:10001667-1787054400-1787068800@www.baker.edu
SUMMARY:Jackson Fall Orientation
DESCRIPTION:Return to the homepage to start over or maybe the links below will help you find the information you are seeking:
URL:https://www.baker.edu/events/jackson-fall-orientation-2026/
LOCATION:Jackson Campus\, 2800 Springport Road\, Jackson\, Michigan\, 49202\, United States
CATEGORIES:New Student Orientation
ATTACH;FMTTYPE=image/jpeg:https://www.baker.edu/wp-content/uploads/New-Student-Orientations_2024-01.jpg
END:VEVENT
BEGIN:VEVENT
DTSTART;TZID=America/Detroit:20260820T120000
DTEND;TZID=America/Detroit:20260820T160000
DTSTAMP:20260422T041826
CREATED:20260113T203005Z
LAST-MODIFIED:20260113T203006Z
UID:10001668-1787227200-1787241600@www.baker.edu
SUMMARY:Royal Oak Fall Orientation
DESCRIPTION:Return to the homepage to start over or maybe the links below will help you find the information you are seeking:
URL:https://www.baker.edu/events/royal-oak-fall-orientation-2026/
LOCATION:Royal Oak Campus\, 420 S Lafayette Ave\, Royal Oak\, MI\, 48067\, United States
CATEGORIES:New Student Orientation
ATTACH;FMTTYPE=image/jpeg:https://www.baker.edu/wp-content/uploads/New-Student-Orientations_2024-04_V2.jpg
END:VEVENT
END:VCALENDAR